Workbook

Sheet Dados
A2: ANEXO IX - PLANILHA 1
A4: ITEM 1 - LOCAÇÃO MICRO ÔNIBUS 30 PASSAGEIROS + MOTORISTA
A6: DADOS DA CONTRATAÇÃO
A7: Empresa:____________________________________________ CNPJ: ___________________
D8: Dias Viagens
D9: N° de viagens/ano | G9: 136.36364
D10: N° de meses com transporte | G10: 12
D11: Média viagens/mês | G11: 11.363636
D17: Veículo | E17: Nº Passageiros
D18: Micro ônibus | E18: 30
D19: Total | E19: =SUM(E18:E18) -> 30
D21: Quilometragem
D22: Ex. Saida de SVSul chegada Santa Maria/RS (ida e volta) | E22: Efetiva | G22: Total
E23: 220 | G23: 220
D24: Total | E24: =E23 -> 220 | G24: =SUM(G23:G23) -> 220
D26: Tempo
D28: Horário de execução do serviço
D29: Turno | E29: Início | F29: Término | G29: Total
D30: Início da manhã | E30: 0.22222222 | F30: 0.28125 | G30: =F30-E30 -> 0.059027778
D31: Final da manhã | E31: 0.48958333 | F31: 0.55555556 | G31: =F31-E31 -> 0.065972222
D32: Total | G32: =SUM(G30:G31) -> 0.125
D34: Tempo de utilização diária - recursos humanos e veículos
D35: Em horas
E36: Efetivo | F36: Morto | G36: Total
D37: Início da manhã | E37: =F30-E30 -> 0.059027778 | F37: =E31-F30 -> 0.20833333 | G37: =E37+F37 -> 0.26736111
D38: Final da manhã | E38: =F31-E31 -> 0.065972222 | G38: =E38+F38 -> 0.065972222
D39: Total | E39: =SUM(E37:E38) -> 0.125 | F39: =SUM(F37:F38) -> 0.20833333 | G39: =SUM(G37:G38) -> 0.33333333
D41: Tempo de utilização diária - veículos
D42: Transformado em números para cálculo da taxa de uso
E43: Efetivo | F43: Morto | G43: Total
D44: Início da manhã | E44: =G30*24 -> 1.4166667 | F44: =(E31-F30)*24 -> 5 | G44: =E44+F44 -> 6.4166667
D45: Final da manhã | E45: =G31*24 -> 1.5833333 | G45: =E45+F45 -> 1.5833333
D46: Total | E46: =SUM(E44:E45) -> 3 | F46: =SUM(F44:F45) -> 5 | G46: =SUM(G44:G45) -> 8
D48: Tempo de utilização mensal - veículos
D49: Transformado em números para cálculo da taxa de uso
D50: Mensal | E50: Efetivo | F50: Morto | G50: Total
E51: =E46*G11 -> 34.090908 | F51: =F46*G11 -> 56.81818 | G51: =E51+F51 -> 90.909088
D52: Mínimo | G52: =E51 -> 34.090908
D53: Máximo | G53: =G51 -> 90.909088
D54: Taxa de uso efetivo | G54: =(G52*G55)/G53 -> 0.375
...

Sheet Motorista-8h
A1: ANEXO IX - PLANILHA 2
A2: =Dados!$A$4 -> ITEM 1 - LOCAÇÃO MICRO ÔNIBUS 30 PASSAGEIROS + MOTORISTA
A4: CUSTO MENSAL COM M0TORISTA
A5: Empresa:____________________________________________ CNPJ: ___________________
A6: Módulo 1 - Composição da Remuneração | E6: 8h - R$ | F6: 8h - R$ | I6: Exemplo
A7: Salário Normativo | E7: =Dados!G105 -> 2287.09 | F7: =$E$7 -> 2287.09 | I7: =(((8*5)+(1*4))*5) -> 220 | K7: Carga horária de 8h - 40 semanais
A8: Adicional de insalubridade | I8: =(((8*5)+(1*4))*5) | K8: Mínimo 4 horas diárias - CCT - Cláusula 3ª - § 1º
A9: Adicional noturno | I9: =(40/5)*30 -> 240 | K9: Proporcional ao nº de horas semanais trabalhadas para o Município.
A10: Hora noturna adicional | I10: =(40/5)*30 | K10: =Dados!G46*5 -> 40 | L10: h semanais | M10: 8 h diárias
A11: Adicional de Hora Extra | J11: 40 | K11: =8horas*5dias
A12: Intervalo Intrajornada
A13: Total da remuneração | F13: 2287.09
A15: Módulo 2 - Benefícios mensais e diários | F15: R$
A16: Transporte | F16: =((Dados!F109*Dados!E109)*Dados!G11)-(Dados!G105*Dados!G109) -> 0
A17: Auxílio alimentação (Vales, Cesta Básica etc.) | F17: 640 | I17: (Valor do vale-alimentação x nº dias trabalhados mês x nº de vales ao dia) - (((Valor da vale-alimentação x nº dias trabalhados mês x nº vales dia) x percentual de desconto)
A18: Assistência médica e familiar | F18: =(Dados!F108-(Dados!F108*Dados!G108)) -> 0
A19: Auxílio creche | J19: Uniformes
A20: Seguro de Vida, Invalidez e Funeral | J20: Quant. | K20: Descrição | L20: Valor | M20: R$ Anual | N20: R$ Mensal
A21: Outros | J21: 2 | K21: Calças ...
A22: Total dos Benefícios mensais e diários | F22: =SUM(F16:F21) -> 640 | J22: 3 | K22: Camisas ... | M22: =L22*3 -> 0 | N22: =M22/10 -> 0
J23: 1 | K23: Sapato ...
A24: Módulo 3 - Insumos diversos | F24: R$ | J24: 1 | K24: Japona ...
A25: Uniformes | F25: =N25 -> 0 | N25: =N22 -> 0
A26: Total do Módulo 3 - Insumos Diversos | F26: =SUM(F25) -> 0
O27: MEMÓRIAS DE CÁLCULO
A28: Módulo 4 - Encargos Trabalhistas | F28: R$
A29: Décimo terceiro | C29: 0.0833 | F29: =F13*C29 -> 190.5146 | O29: AVISO PRÉVIO INDENIZADO
A30: Férias | C30: 0.1111 | F30: =F7*C30 -> 254.0957 | S30: Dias - mínimo | T30: Dias - proporção | U30: Total - Dias | V30: Custo referência c/ a proporção | W30: nº meses - emprego | X30: Subtotal Valor AP | Y30: % trab. (ponderação) | Z30: Valor AP Indenizado
A31: Total do Módulo 4 - Encargos Trabalhistas | F31: =SUM(F29:F30) -> 444.6103 | O31: Referência para aviso-prévio indenizado
O32: Remuneração | R32: =F13 -> 2287.09 | S32: 30 | T32: 0 | U32: =S32+T32 -> 30 | V32: =(R35*U32)/30.4375 -> 2504.6093 | W32: 12 | X32: =V32/W32 -> 208.71744 | Y32: 0.5 | Z32: =X32*Y32 -> 104.35872
A33: Módulo 5 - Encargos Previdenciários | F33: R$ | G33: LC123 | O33: 13º Salário | R33: =F29 -> 190.5146
A34: INSS | D34: 0.2 | F34: =F13*D34 -> 457.418 | G34: =D34 -> 0.2 | H34: =F34 -> 457.418 | O34: Adicional de Férias | R34: =(F13/3)/12 -> 63.530278
A35: SAT/RAT | D35: 0.03 | F35: =F13*D35 -> 68.6127 | G35: =D35 -> 0.03 | H35: =F35 -> 68.6127 | J35: Ver informação da GFIP | O35: Total | R35: =SUM(R32:R34) -> 2541.1349
A36: INCRA/SEST/SEBRAE/SENAT | D36: 0.033 | F36: =F13*D36 -> 75.47397 | U36: FGTS/ AP indenizado | V36: =Z32*8% -> 8.3486977
A37: FGTS | D37: 0.08 | F37: =F13*D37 -> 182.9672 | G37: =D37 -> 0.08 | H37: =F37 -> 182.9672 | O37: Multa rescisória do aviso prévio indenizado
A38: Subtotal | D38: =SUM(D34:D37) -> 0.343 | F38: =SUM(F34:F37) -> 784.47187 | G38: =SUM(G34:G37) -> 0.31 | H38: =SUM(H34:H37) -> 708.9979 | O38: Valor (R$) | P38: Multa rescisória (%) | Q38: FGTS | R38: Subtotal | S38: % trab. (ponderação) | T38: Valor Multa
A39: Incidência Módulo 5 s/Módulo 4 | F39: =F31*D38 -> 152.50133 | H39: =F31*G38 -> 137.82919 | O39: =V32 -> 2504.6093 | P39: 0.5 | Q39: 0.08 | R39: =(O39*P39)*Q39 -> 100.18437 | S39: 0.5 | T39: =R39*S39 -> 50.092186
A40: Total do Módulo 5 - Encargos Previdenciários | F40: =SUM(F38:F39) -> 936.9732 | H40: =SUM(H38:H39) -> 846.82709 | O40: Multa rescisória = 50% (40% + 10%) 40% multa do FGTS e 10% corresponde a contribuição social sobre rescisão sem justa causa
A42: Módulo 6 - Provisão para rescisão | F42: R$ | G42: LC123 | O42: Aviso prévio trabalhado
A43: Aviso prévio indenizado | F43: =Z32 -> 104.35872 | H43: =F43 -> 104.35872
...

Sheet Custos
B1: ANEXO IX - PLANILHA 3
B2: =Dados!A4 -> ITEM 1 - LOCAÇÃO MICRO ÔNIBUS 30 PASSAGEIROS + MOTORISTA
B4: Empresa:____________________________________________ CNPJ: ___________________
E5: CUSTO TOTAL | M5: =E5 -> CUSTO TOTAL | R5: =M5 -> CUSTO TOTAL
H7: LUCRO REAL USO TOTAL | M7: LUCRO PRESUMIDO USO TOTAL | R7: LC 123 USO TOTAL
H8: Anual | I8: Mensal | M8: Anual | N8: Mensal | R8: Anual | S8: Mensal
E9: Despesa com veículo
E10: Depreciação | H10: =(Dados!G88-(Dados!G88*Dados!F97))*Dados!F95 -> 18545.455 | I10: =H10/Dados!G10 -> 1545.4545 | M10: =(Dados!G88-(Dados!G88*Dados!F97))*Dados!F95 -> 18545.455 | N10: =M10/Dados!G10 -> 1545.4545 | R10: =(Dados!G88-(Dados!G88*Dados!F97))*Dados!F95 -> 18545.455 | S10: =R10/Dados!G10 -> 1545.4545
E11: Remuneração de capital | H11: =((Dados!G88-(Dados!G88*Dados!F97))-Dados!G95)*Dados!F96 -> 8638.3555 | I11: =H11/Dados!G10 -> 719.86296 | M11: =((Dados!G88-(Dados!G88*Dados!F97))-H10)*Dados!F96 -> 8313.9174 | N11: =M11/Dados!G10 -> 692.82645 | R11: =((Dados!G88-(Dados!G88*Dados!F97))-Dados!G95)*Dados!F96 -> 8638.3555 | S11: =N11 -> 692.82645
E12: Combustíveis | H12: =(((Dados!G23*1)/Dados!G64)*Dados!G94)*Dados!G9 -> 46398 | I12: =H12/Dados!G10 -> 3866.5 | M12: =(((Dados!G23*1)/Dados!G64)*Dados!G94)*Dados!G9 -> 46398 | N12: =M12/Dados!G10 -> 3866.5 | R12: =(((Dados!G23*1)/Dados!G64)*Dados!G94)*Dados!G9 -> 46398 | S12: =R12/Dados!G10 -> 3866.5
E13: Óleos/lubrificantes | H13: =H12*Dados!G74 -> 10.300356 | I13: =H13/Dados!G10 -> 0.858363 | M13: =H12*Dados!G74 -> 10.300356 | N13: =H13/Dados!G10 -> 0.858363 | R13: =H12*Dados!G74 -> 10.300356 | S13: =H13/Dados!G10 -> 0.858363
E14: Manutenção | H14: =H12*Dados!G70 -> 27838.8 | I14: =H14/Dados!G10 -> 2319.9 | M14: =H12*Dados!G70 -> 27838.8 | N14: =M14/Dados!G10 -> 2319.9 | R14: =H12*Dados!G70 -> 27838.8 | S14: =R14/Dados!G10 -> 2319.9
E15: Rodagem | H15: =((((Dados!G83*Dados!E78)/Dados!F80)*Dados!G24)*Dados!G9) -> 4348.357 | I15: =H15/Dados!G10 -> 362.36308 | M15: =((((Dados!G83*Dados!E78)/Dados!F80)*Dados!G24)*Dados!G9) -> 4348.357 | N15: =M15/Dados!G10 -> 362.36308 | R15: =((((Dados!G83*Dados!E78)/Dados!F80)*Dados!G24)*Dados!G9) -> 4348.357 | S15: =R15/Dados!G10 -> 362.36308
H16: =SUM(H10:H15) -> 105779.27 | I16: =SUM(I10:I15) -> 8814.9389 | M16: =SUM(M10:M15) -> 105454.83 | N16: =SUM(N10:N15) -> 8787.9024 | R16: =SUM(R10:R15) -> 105779.27 | S16: =SUM(S10:S15) -> 8787.9024
E18: Recursos Humanos
E19: Despesa com motorista | H19: ='Motorista-8h'!F65*Dados!G10 -> 57928.773 | I19: ='Motorista-8h'!F65 -> 4827.3978 | M19: ='Motorista-8h'!F65*Dados!G10 -> 57928.773 | N19: ='Motorista-8h'!F65 -> 4827.3978 | R19: ='Motorista-8h'!H65*Dados!G10 -> 56661.291 | S19: ='Motorista-8h'!H65 -> 4721.7743
H20: =SUM(H19:H19) -> 57928.773 | I20: =SUM(I19:I19) -> 4827.3978 | M20: =SUM(M19:M19) -> 57928.773 | N20: =SUM(N19:N19) -> 4827.3978 | R20: =SUM(R19:R19) -> 56661.291 | S20: =SUM(S19:S19) -> 4721.7743
E22: Despesas administrativas
E23: Licenciamento | H23: =(Dados!G89/12)*Dados!G10 -> 2913.2 | I23: =H23/Dados!G10 -> 242.76667 | M23: =(Dados!G89/12)*Dados!G10 -> 2913.2 | N23: =M23/Dados!G10 -> 242.76667 | R23: =(Dados!G89/12)*Dados!G10 -> 2913.2 | S23: =R23/Dados!G10 -> 242.76667
E24: DPVAT | H24: =(Dados!G91/12)*Dados!G10 -> 0 | I24: =H24/Dados!G10 -> 0 | M24: =(Dados!G91/12)*Dados!G10 -> 0 | N24: =M24/Dados!G10 -> 0 | R24: =(Dados!G91/12)*Dados!G10 -> 0 | S24: =R24/Dados!G10 -> 0
E25: IPVA | H25: =(Dados!G90/12)*Dados!G10 -> 2115.93 | I25: =H25/Dados!G10 -> 176.3275 | M25: =(Dados!G90/12)*Dados!G10 -> 2115.93 | N25: =M25/Dados!G10 -> 176.3275 | R25: =(Dados!G90/12)*Dados!G10 -> 2115.93 | S25: =R25/Dados!G10 -> 176.3275
E26: Vistorias | H26: =((Dados!G92*Dados!F92)/12)*Dados!G10 -> 1600 | I26: =H26/Dados!G10 -> 133.33333 | M26: =((Dados!G92*Dados!F92)/12)*Dados!G10 -> 1600 | N26: =M26/Dados!G10 -> 133.33333 | R26: =((Dados!G92*Dados!F92)/12)*Dados!G10 -> 1600 | S26: =R26/Dados!G10 -> 133.33333
E27: Aferição do tacógrafo | H27: =(((Dados!G93*Dados!F93)/2)/12)*Dados!G10 -> 315 | I27: =H27/Dados!G10 -> 26.25 | M27: =(Dados!G93*Dados!F93)/2 -> 315 | N27: =M27/Dados!G10 -> 26.25 | R27: =(Dados!G93*Dados!F93)/2 -> 315 | S27: =R27/Dados!G10 -> 26.25
E28: Seguro responsabilidade civil | H28: =Dados!G113 -> 0 | I28: =H28/Dados!G10 -> 0 | M28: =Dados!G113 -> 0 | N28: =M28/Dados!G10 -> 0 | R28: =Dados!G113 -> 0 | S28: =R28/Dados!G10 -> 0
H29: =SUM(H23:H28) -> 6944.13 | I29: =SUM(I23:I28) -> 578.6775 | M29: =SUM(M23:M28) -> 6944.13 | N29: =SUM(N23:N28) -> 578.6775 | R29: =SUM(R23:R28) -> 6944.13 | S29: =SUM(S23:S28) -> 578.6775
E31: Subtotal | H31: =H16+H20+H29 -> 170652.17 | I31: =I16+I20+I29 -> 14221.014 | M31: =M16+M20+M29 -> 170327.73 | N31: =N16+N20+N29 -> 14193.978 | R31: =R16+R20+R29 -> 169384.69 | S31: =S16+S20+S29 -> 14088.354
E32: Despesas não-operacionais | H32: =H31*Dados!G114 -> 10068.478 | I32: =I31*Dados!G114 -> 839.03984 | M32: =M31*Dados!G114 -> 10049.336 | N32: =N31*Dados!G114 -> 837.44468 | R32: =R31*Dados!G114 -> 9993.6966 | S32: =S31*Dados!G114 -> 831.2129
B34: Base de cálculo para lucro | E34: Subtotal | H34: =SUM(H31:H32) -> 180720.65 | I34: =SUM(I31:I32) -> 15060.054 | M34: =SUM(M31:M32) -> 180377.07 | N34: =SUM(N31:N32) -> 15031.422 | R34: =SUM(R31:R32) -> 179378.38 | S34: =SUM(S31:S32) -> 14919.567
B36: Lucro | D36: % | H36: LUCRO REAL USO TOTAL | M36: LUCRO PRESUMIDO USO TOTAL | R36: USO TOTAL
H37: Anual | I37: Mensal | M37: Anual | N37: Mensal | R37: Anual | S37: Mensal
D38: =Dados!$G$116 -> 0.1 | E38: Subtotal | H38: =H34*D38 -> 18072.065 | I38: =H38/Dados!G10 -> 1506.0054 | M38: =H34*D38 -> 18072.065 | N38: =M38/Dados!G10 -> 1506.0054 | R38: =R34*D38 -> 17937.838 | S38: =R38/Dados!G10 -> 1494.8199
E40: TOTAL | H40: =H34+H38 -> 198792.71 | I40: =I34+I38 -> 16566.059 | M40: =M34+M38 -> 198449.13 | N40: =N34+N38 -> 16537.428 | R40: =R34+R38 -> 197316.22 | S40: =S34+S38 -> 16414.387
B41: Tributos
D42: Alíquota | H42: LUCRO REAL USO TOTAL | M42: LUCRO PRESUMIDO USO TOTAL | R42: LC 123 USO TOTAL
D43: L. Real | E43: L.Pres. | F43: LC123 | H43: Anual | I43: Mensal | M43: Anual | N43: Mensal | R43: Anual | S43: Mensal
B44: Base de cálculo Total | D44: =(H34+H38)/((100-14.25)/100) -> 231828.24 | E44: =((M34+M38)/((100-8.65)/100)) -> 217240.43 | F44: =(R34+R38)/((100-7.99)/100) -> 214450.85
B45: Base de cálculo Efetiva | D45: =(J34+J38)/((100-14.25)/100) -> 0 | E45: =(O34+O38)/((100-8.65)/100) -> 0 | F45: =(T34+T38)/((100-7.99)/100) -> 0
B46: Federais | C46: Cofins | D46: 0.076 | E46: 0.03 | F46: 0.0242 | H46: =D44*D46 -> 17618.946 | I46: =H46/Dados!G10 -> 1468.2455 | M46: =E44*E46 -> 6517.2129 | N46: =M46/Dados!G10 -> 543.10108 | R46: =F44*F46 -> 5189.7105 | S46: =R46/Dados!G10 -> 432.47587
C47: PIS | D47: 0.0165 | E47: 0.0065 | F47: 0.0057 | H47: =D44*D47 -> 3825.1659 | I47: =H47/Dados!G10 -> 318.76383 | M47: =E44*E47 -> 1412.0628 | N47: =M47/Dados!G10 -> 117.6719 | R47: =F44*F47 -> 1222.3698 | S47: =R47/Dados!G10 -> 101.86415
B48: Municipais | C48: ISS | D48: 0.03 | E48: 0.03 | F48: 0.03 | H48: =D44*D48 -> 6954.8471 | I48: =H48/Dados!G10 -> 579.57059 | M48: =E44*E48 -> 6517.2129 | N48: =M48/Dados!G10 -> 543.10108 | R48: =F44*F48 -> 6433.5254 | S48: =R48/Dados!G10 -> 536.12711
...

Sheet Depreciação
A1: ANEXO IX - PLANILHA 4
A2: =Custos!$B$2 -> ITEM 1 - LOCAÇÃO MICRO ÔNIBUS 30 PASSAGEIROS + MOTORISTA
A3: Empresa:____________________________________________ CNPJ: ___________________
A4: DEPRECIAÇÃO/REMUNERAÇÃO
A6: Dados do veículo
A7: Categoria | B7: Potência do motor | D7: Modelo | G7: % Residual | H7: Valor sem rodagem | J7: Valor residual | K7: Nº de veículos
A8: Pesado | B8: Acima de 200 HP | D8: Padron. Com 2 ou 3 portas | G8: 0 | H8: 200000 | J8: =H8*G8 -> 0 | K8: 1
A10: DEPRECIAÇÃO
D11: Método de Coleta
A12: Fator de depreciação anual por tipo de veículo
D13: Faixa etária | F13: Veículo pesado
F14: Cálculo | H14: Fator
D15: 0 até | E15: 1 | F15: 0,85 x (10/55) | H15: =0.85*(10/55) -> 0.15454545
D16: 1 até | E16: 2 | F16: 0,85 x (9/55) | H16: =0.85* (9/55) -> 0.13909091
D17: 2 até | E17: 3 | F17: 0,85 x (8/55) | H17: =0.85*(8/55) -> 0.12363636
D18: 3 até | E18: 4 | F18: 0,85 x (7/55) | H18: =0.85 *(7/55) -> 0.10818182
D19: 4 até | E19: 5 | F19: 0,85 x (6/55) | H19: =0.85 *(6/55) -> 0.092727273
D20: 5 até | E20: 6 | F20: 0,85 x (5/55) | H20: =0.85*(5/55) -> 0.077272727
D21: 6 até | E21: 7 | F21: 0,85 x (4/55) | H21: =0.85*(4/55) -> 0.061818182
D22: 7 até | E22: 8 | F22: 0,85 x (3/55) | H22: =0.85* (3/55) -> 0.046363636
D23: 8 até | E23: 9 | F23: 0,85 x (2/55) | H23: =0.85*(2/55) -> 0.030909091
D24: 9 até | E24: 10 | F24: 0,85 x (1/55) | H24: =0.85*(1/55) -> 0.015454545
D25: 10 | F25: Zero | H25: Zero
F27: Plano de Depreciação - Método de Cole
E28: Faixa etária | G28: Veículo pesado
G29: Depreciação anual | H29: Depreciação acumulada | I29: Residual | J29: Valor mensal a considerar | L29: A depreciação mensal por veículo, para cada tipo de veículo, é obtida multiplicando-se o coeficiente de depreciação anual pelo preço do veículo novo sem rodagem, dividindo-se o resultado pela frota de veículos do tipo considerado e dividindo-se o novo resultado por 12 (número de meses do ano).
I30: 200000
E31: 0 até | F31: 1 | G31: =H8*H15 -> 30909.091 | H31: =G31 -> 30909.091 | I31: =I30-G31 -> 169090.91 | J31: =G31/12 -> 2575.7576
E32: 1 até | F32: 2 | G32: =H8*H16 -> 27818.182 | H32: =H31+G32 -> 58727.273 | I32: =I31-G32 -> 141272.73 | J32: =G32/12 -> 2318.1818
E33: 2 até | F33: 3 | G33: =H8*H17 -> 24727.273 | H33: =H32+G33 -> 83454.545 | I33: =I32-G33 -> 116545.45 | J33: =G33/12 -> 2060.6061
E34: 3 até | F34: 4 | G34: =H8*H18 -> 21636.364 | H34: =H33+G34 -> 105090.91 | I34: =I33-G34 -> 94909.091 | J34: =G34/12 -> 1803.0303
E35: 4 até | F35: 5 | G35: =H8*H19 -> 18545.455 | H35: =H34+G35 -> 123636.36 | I35: =I34-G35 -> 76363.636 | J35: =G35/12 -> 1545.4545
E36: 5 até | F36: 6 | G36: =H8*H20 -> 15454.545 | H36: =H35+G36 -> 139090.91 | I36: =I35-G36 -> 60909.091 | J36: =G36/12 -> 1287.8788
E37: 6 até | F37: 7 | G37: =H8*H21 -> 12363.636 | H37: =H36+G37 -> 151454.55 | I37: =I36-G37 -> 48545.455 | J37: =G37/12 -> 1030.303
E38: 7 até | F38: 8 | G38: =H8*H22 -> 9272.7273 | H38: =H37+G38 -> 160727.27 | I38: =I37-G38 -> 39272.727 | J38: =G38/12 -> 772.72727
E39: 8 até | F39: 9 | G39: =H8*H23 -> 6181.8182 | H39: =H38+G39 -> 166909.09 | I39: =I38-G39 -> 33090.909 | J39: =G39/12 -> 515.15152
E40: 9 até | F40: 10 | G40: =H8*H24 -> 3090.9091 | H40: =H39+G40 -> 170000 | I40: =I39-G40 -> 30000 | J40: =G40/12 -> 257.57576
E41: 10 | G41: Zero | H41: Zero | I41: Zero | J41: Zero
A43: REMUNERAÇÃO DO CAPITAL IMOBILIZADO EM VEÍCULOS
A45: Fator de remuneração anual por tipo de veículo
...
